BEGIN:VCALENDAR
VERSION:2.0
PRODID:-//Kamo Club - ECPv6.15.16//NONSGML v1.0//EN
CALSCALE:GREGORIAN
METHOD:PUBLISH
X-WR-CALNAME:Kamo Club
X-ORIGINAL-URL:https://kamoclub.co.nz
X-WR-CALDESC:Events for Kamo Club
REFRESH-INTERVAL;VALUE=DURATION:PT1H
X-Robots-Tag:noindex
X-PUBLISHED-TTL:PT1H
BEGIN:VTIMEZONE
TZID:Pacific/Auckland
BEGIN:STANDARD
TZOFFSETFROM:+1300
TZOFFSETTO:+1200
TZNAME:NZST
DTSTART:20250405T140000
END:STANDARD
BEGIN:DAYLIGHT
TZOFFSETFROM:+1200
TZOFFSETTO:+1300
TZNAME:NZDT
DTSTART:20250927T140000
END:DAYLIGHT
BEGIN:STANDARD
TZOFFSETFROM:+1300
TZOFFSETTO:+1200
TZNAME:NZST
DTSTART:20260404T140000
END:STANDARD
BEGIN:DAYLIGHT
TZOFFSETFROM:+1200
TZOFFSETTO:+1300
TZNAME:NZDT
DTSTART:20260926T140000
END:DAYLIGHT
BEGIN:STANDARD
TZOFFSETFROM:+1300
TZOFFSETTO:+1200
TZNAME:NZST
DTSTART:20270403T140000
END:STANDARD
BEGIN:DAYLIGHT
TZOFFSETFROM:+1200
TZOFFSETTO:+1300
TZNAME:NZDT
DTSTART:20270925T140000
END:DAYLIGHT
END:VTIMEZONE
BEGIN:VEVENT
DTSTART;TZID=Pacific/Auckland:20260427T183000
DTEND;TZID=Pacific/Auckland:20260427T210000
DTSTAMP:20260426T045409
CREATED:20250813T215836Z
LAST-MODIFIED:20250902T215845Z
UID:10000217-1777314600-1777323600@kamoclub.co.nz
SUMMARY:Pool Section
DESCRIPTION:
URL:https://kamoclub.co.nz/event/pool-section/2026-04-27/
END:VEVENT
BEGIN:VEVENT
DTSTART;TZID=Pacific/Auckland:20260504T183000
DTEND;TZID=Pacific/Auckland:20260504T210000
DTSTAMP:20260426T045409
CREATED:20250813T215836Z
LAST-MODIFIED:20250902T215845Z
UID:10000218-1777919400-1777928400@kamoclub.co.nz
SUMMARY:Pool Section
DESCRIPTION:
URL:https://kamoclub.co.nz/event/pool-section/2026-05-04/
END:VEVENT
BEGIN:VEVENT
DTSTART;TZID=Pacific/Auckland:20260511T183000
DTEND;TZID=Pacific/Auckland:20260511T210000
DTSTAMP:20260426T045409
CREATED:20250813T215836Z
LAST-MODIFIED:20250902T215845Z
UID:10000219-1778524200-1778533200@kamoclub.co.nz
SUMMARY:Pool Section
DESCRIPTION:
URL:https://kamoclub.co.nz/event/pool-section/2026-05-11/
END:VEVENT
BEGIN:VEVENT
DTSTART;TZID=Pacific/Auckland:20260518T183000
DTEND;TZID=Pacific/Auckland:20260518T210000
DTSTAMP:20260426T045409
CREATED:20250813T215836Z
LAST-MODIFIED:20250902T215845Z
UID:10000220-1779129000-1779138000@kamoclub.co.nz
SUMMARY:Pool Section
DESCRIPTION:
URL:https://kamoclub.co.nz/event/pool-section/2026-05-18/
END:VEVENT
BEGIN:VEVENT
DTSTART;TZID=Pacific/Auckland:20260525T183000
DTEND;TZID=Pacific/Auckland:20260525T210000
DTSTAMP:20260426T045409
CREATED:20250813T215836Z
LAST-MODIFIED:20250902T215845Z
UID:10000221-1779733800-1779742800@kamoclub.co.nz
SUMMARY:Pool Section
DESCRIPTION:
URL:https://kamoclub.co.nz/event/pool-section/2026-05-25/
END:VEVENT
BEGIN:VEVENT
DTSTART;TZID=Pacific/Auckland:20260601T183000
DTEND;TZID=Pacific/Auckland:20260601T210000
DTSTAMP:20260426T045409
CREATED:20250813T215836Z
LAST-MODIFIED:20250902T215845Z
UID:10000222-1780338600-1780347600@kamoclub.co.nz
SUMMARY:Pool Section
DESCRIPTION:
URL:https://kamoclub.co.nz/event/pool-section/2026-06-01/
END:VEVENT
BEGIN:VEVENT
DTSTART;TZID=Pacific/Auckland:20260608T183000
DTEND;TZID=Pacific/Auckland:20260608T210000
DTSTAMP:20260426T045409
CREATED:20250813T215836Z
LAST-MODIFIED:20250902T215845Z
UID:10000223-1780943400-1780952400@kamoclub.co.nz
SUMMARY:Pool Section
DESCRIPTION:
URL:https://kamoclub.co.nz/event/pool-section/2026-06-08/
END:VEVENT
BEGIN:VEVENT
DTSTART;TZID=Pacific/Auckland:20260615T183000
DTEND;TZID=Pacific/Auckland:20260615T210000
DTSTAMP:20260426T045409
CREATED:20250813T215836Z
LAST-MODIFIED:20250902T215845Z
UID:10000224-1781548200-1781557200@kamoclub.co.nz
SUMMARY:Pool Section
DESCRIPTION:
URL:https://kamoclub.co.nz/event/pool-section/2026-06-15/
END:VEVENT
BEGIN:VEVENT
DTSTART;TZID=Pacific/Auckland:20260622T183000
DTEND;TZID=Pacific/Auckland:20260622T210000
DTSTAMP:20260426T045409
CREATED:20250813T215836Z
LAST-MODIFIED:20250902T215845Z
UID:10000225-1782153000-1782162000@kamoclub.co.nz
SUMMARY:Pool Section
DESCRIPTION:
URL:https://kamoclub.co.nz/event/pool-section/2026-06-22/
END:VEVENT
BEGIN:VEVENT
DTSTART;TZID=Pacific/Auckland:20260629T183000
DTEND;TZID=Pacific/Auckland:20260629T210000
DTSTAMP:20260426T045409
CREATED:20250813T215836Z
LAST-MODIFIED:20250902T215845Z
UID:10000226-1782757800-1782766800@kamoclub.co.nz
SUMMARY:Pool Section
DESCRIPTION:
URL:https://kamoclub.co.nz/event/pool-section/2026-06-29/
END:VEVENT
BEGIN:VEVENT
DTSTART;TZID=Pacific/Auckland:20260706T183000
DTEND;TZID=Pacific/Auckland:20260706T210000
DTSTAMP:20260426T045409
CREATED:20250813T215836Z
LAST-MODIFIED:20250902T215845Z
UID:10000227-1783362600-1783371600@kamoclub.co.nz
SUMMARY:Pool Section
DESCRIPTION:
URL:https://kamoclub.co.nz/event/pool-section/2026-07-06/
END:VEVENT
BEGIN:VEVENT
DTSTART;TZID=Pacific/Auckland:20260713T183000
DTEND;TZID=Pacific/Auckland:20260713T210000
DTSTAMP:20260426T045409
CREATED:20250813T215836Z
LAST-MODIFIED:20250902T215845Z
UID:10000228-1783967400-1783976400@kamoclub.co.nz
SUMMARY:Pool Section
DESCRIPTION:
URL:https://kamoclub.co.nz/event/pool-section/2026-07-13/
END:VEVENT
BEGIN:VEVENT
DTSTART;TZID=Pacific/Auckland:20260720T183000
DTEND;TZID=Pacific/Auckland:20260720T210000
DTSTAMP:20260426T045409
CREATED:20250813T215836Z
LAST-MODIFIED:20250902T215845Z
UID:10000229-1784572200-1784581200@kamoclub.co.nz
SUMMARY:Pool Section
DESCRIPTION:
URL:https://kamoclub.co.nz/event/pool-section/2026-07-20/
END:VEVENT
BEGIN:VEVENT
DTSTART;TZID=Pacific/Auckland:20260727T183000
DTEND;TZID=Pacific/Auckland:20260727T210000
DTSTAMP:20260426T045409
CREATED:20250813T215836Z
LAST-MODIFIED:20250902T215845Z
UID:10000230-1785177000-1785186000@kamoclub.co.nz
SUMMARY:Pool Section
DESCRIPTION:
URL:https://kamoclub.co.nz/event/pool-section/2026-07-27/
END:VEVENT
BEGIN:VEVENT
DTSTART;TZID=Pacific/Auckland:20260803T183000
DTEND;TZID=Pacific/Auckland:20260803T210000
DTSTAMP:20260426T045409
CREATED:20250813T215836Z
LAST-MODIFIED:20250902T215845Z
UID:10000231-1785781800-1785790800@kamoclub.co.nz
SUMMARY:Pool Section
DESCRIPTION:
URL:https://kamoclub.co.nz/event/pool-section/2026-08-03/
END:VEVENT
BEGIN:VEVENT
DTSTART;TZID=Pacific/Auckland:20260810T183000
DTEND;TZID=Pacific/Auckland:20260810T210000
DTSTAMP:20260426T045409
CREATED:20250813T215836Z
LAST-MODIFIED:20250902T215845Z
UID:10000232-1786386600-1786395600@kamoclub.co.nz
SUMMARY:Pool Section
DESCRIPTION:
URL:https://kamoclub.co.nz/event/pool-section/2026-08-10/
END:VEVENT
BEGIN:VEVENT
DTSTART;TZID=Pacific/Auckland:20260817T183000
DTEND;TZID=Pacific/Auckland:20260817T210000
DTSTAMP:20260426T045409
CREATED:20250813T215836Z
LAST-MODIFIED:20250902T215845Z
UID:10000233-1786991400-1787000400@kamoclub.co.nz
SUMMARY:Pool Section
DESCRIPTION:
URL:https://kamoclub.co.nz/event/pool-section/2026-08-17/
END:VEVENT
BEGIN:VEVENT
DTSTART;TZID=Pacific/Auckland:20260824T183000
DTEND;TZID=Pacific/Auckland:20260824T210000
DTSTAMP:20260426T045409
CREATED:20250813T215836Z
LAST-MODIFIED:20250902T215845Z
UID:10000234-1787596200-1787605200@kamoclub.co.nz
SUMMARY:Pool Section
DESCRIPTION:
URL:https://kamoclub.co.nz/event/pool-section/2026-08-24/
END:VEVENT
BEGIN:VEVENT
DTSTART;TZID=Pacific/Auckland:20260831T183000
DTEND;TZID=Pacific/Auckland:20260831T210000
DTSTAMP:20260426T045409
CREATED:20250813T215836Z
LAST-MODIFIED:20250902T215845Z
UID:10000235-1788201000-1788210000@kamoclub.co.nz
SUMMARY:Pool Section
DESCRIPTION:
URL:https://kamoclub.co.nz/event/pool-section/2026-08-31/
END:VEVENT
BEGIN:VEVENT
DTSTART;TZID=Pacific/Auckland:20260907T183000
DTEND;TZID=Pacific/Auckland:20260907T210000
DTSTAMP:20260426T045409
CREATED:20250813T215836Z
LAST-MODIFIED:20250902T215845Z
UID:10000236-1788805800-1788814800@kamoclub.co.nz
SUMMARY:Pool Section
DESCRIPTION:
URL:https://kamoclub.co.nz/event/pool-section/2026-09-07/
END:VEVENT
BEGIN:VEVENT
DTSTART;TZID=Pacific/Auckland:20260914T183000
DTEND;TZID=Pacific/Auckland:20260914T210000
DTSTAMP:20260426T045409
CREATED:20250813T215836Z
LAST-MODIFIED:20250902T215845Z
UID:10000237-1789410600-1789419600@kamoclub.co.nz
SUMMARY:Pool Section
DESCRIPTION:
URL:https://kamoclub.co.nz/event/pool-section/2026-09-14/
END:VEVENT
BEGIN:VEVENT
DTSTART;TZID=Pacific/Auckland:20260921T183000
DTEND;TZID=Pacific/Auckland:20260921T210000
DTSTAMP:20260426T045409
CREATED:20250813T215836Z
LAST-MODIFIED:20250902T215845Z
UID:10000238-1790015400-1790024400@kamoclub.co.nz
SUMMARY:Pool Section
DESCRIPTION:
URL:https://kamoclub.co.nz/event/pool-section/2026-09-21/
END:VEVENT
BEGIN:VEVENT
DTSTART;TZID=Pacific/Auckland:20260928T183000
DTEND;TZID=Pacific/Auckland:20260928T210000
DTSTAMP:20260426T045409
CREATED:20250813T215836Z
LAST-MODIFIED:20250902T215845Z
UID:10000239-1790620200-1790629200@kamoclub.co.nz
SUMMARY:Pool Section
DESCRIPTION:
URL:https://kamoclub.co.nz/event/pool-section/2026-09-28/
END:VEVENT
BEGIN:VEVENT
DTSTART;TZID=Pacific/Auckland:20261005T183000
DTEND;TZID=Pacific/Auckland:20261005T210000
DTSTAMP:20260426T045409
CREATED:20250813T215836Z
LAST-MODIFIED:20250902T215845Z
UID:10000240-1791225000-1791234000@kamoclub.co.nz
SUMMARY:Pool Section
DESCRIPTION:
URL:https://kamoclub.co.nz/event/pool-section/2026-10-05/
END:VEVENT
BEGIN:VEVENT
DTSTART;TZID=Pacific/Auckland:20261012T183000
DTEND;TZID=Pacific/Auckland:20261012T210000
DTSTAMP:20260426T045409
CREATED:20250813T215836Z
LAST-MODIFIED:20250902T215845Z
UID:10000241-1791829800-1791838800@kamoclub.co.nz
SUMMARY:Pool Section
DESCRIPTION:
URL:https://kamoclub.co.nz/event/pool-section/2026-10-12/
END:VEVENT
BEGIN:VEVENT
DTSTART;TZID=Pacific/Auckland:20261019T183000
DTEND;TZID=Pacific/Auckland:20261019T210000
DTSTAMP:20260426T045409
CREATED:20250813T215836Z
LAST-MODIFIED:20250902T215845Z
UID:10000242-1792434600-1792443600@kamoclub.co.nz
SUMMARY:Pool Section
DESCRIPTION:
URL:https://kamoclub.co.nz/event/pool-section/2026-10-19/
END:VEVENT
BEGIN:VEVENT
DTSTART;TZID=Pacific/Auckland:20261026T183000
DTEND;TZID=Pacific/Auckland:20261026T210000
DTSTAMP:20260426T045409
CREATED:20250813T215836Z
LAST-MODIFIED:20250902T215845Z
UID:10000243-1793039400-1793048400@kamoclub.co.nz
SUMMARY:Pool Section
DESCRIPTION:
URL:https://kamoclub.co.nz/event/pool-section/2026-10-26/
END:VEVENT
BEGIN:VEVENT
DTSTART;TZID=Pacific/Auckland:20261102T183000
DTEND;TZID=Pacific/Auckland:20261102T210000
DTSTAMP:20260426T045409
CREATED:20250813T215836Z
LAST-MODIFIED:20250902T215845Z
UID:10000244-1793644200-1793653200@kamoclub.co.nz
SUMMARY:Pool Section
DESCRIPTION:
URL:https://kamoclub.co.nz/event/pool-section/2026-11-02/
END:VEVENT
BEGIN:VEVENT
DTSTART;TZID=Pacific/Auckland:20261109T183000
DTEND;TZID=Pacific/Auckland:20261109T210000
DTSTAMP:20260426T045409
CREATED:20250813T215836Z
LAST-MODIFIED:20250902T215845Z
UID:10000245-1794249000-1794258000@kamoclub.co.nz
SUMMARY:Pool Section
DESCRIPTION:
URL:https://kamoclub.co.nz/event/pool-section/2026-11-09/
END:VEVENT
BEGIN:VEVENT
DTSTART;TZID=Pacific/Auckland:20261116T183000
DTEND;TZID=Pacific/Auckland:20261116T210000
DTSTAMP:20260426T045409
CREATED:20250813T215836Z
LAST-MODIFIED:20250902T215845Z
UID:10000246-1794853800-1794862800@kamoclub.co.nz
SUMMARY:Pool Section
DESCRIPTION:
URL:https://kamoclub.co.nz/event/pool-section/2026-11-16/
END:VEVENT
END:VCALENDAR