BEGIN:VCALENDAR
VERSION:2.0
PRODID:-//Kamo Club - ECPv6.15.16//NONSGML v1.0//EN
CALSCALE:GREGORIAN
METHOD:PUBLISH
X-WR-CALNAME:Kamo Club
X-ORIGINAL-URL:https://kamoclub.co.nz
X-WR-CALDESC:Events for Kamo Club
REFRESH-INTERVAL;VALUE=DURATION:PT1H
X-Robots-Tag:noindex
X-PUBLISHED-TTL:PT1H
BEGIN:VTIMEZONE
TZID:Pacific/Auckland
BEGIN:STANDARD
TZOFFSETFROM:+1300
TZOFFSETTO:+1200
TZNAME:NZST
DTSTART:20240406T140000
END:STANDARD
BEGIN:DAYLIGHT
TZOFFSETFROM:+1200
TZOFFSETTO:+1300
TZNAME:NZDT
DTSTART:20240928T140000
END:DAYLIGHT
BEGIN:STANDARD
TZOFFSETFROM:+1300
TZOFFSETTO:+1200
TZNAME:NZST
DTSTART:20250405T140000
END:STANDARD
BEGIN:DAYLIGHT
TZOFFSETFROM:+1200
TZOFFSETTO:+1300
TZNAME:NZDT
DTSTART:20250927T140000
END:DAYLIGHT
BEGIN:STANDARD
TZOFFSETFROM:+1300
TZOFFSETTO:+1200
TZNAME:NZST
DTSTART:20260404T140000
END:STANDARD
BEGIN:DAYLIGHT
TZOFFSETFROM:+1200
TZOFFSETTO:+1300
TZNAME:NZDT
DTSTART:20260926T140000
END:DAYLIGHT
END:VTIMEZONE
BEGIN:VEVENT
DTSTART;TZID=Pacific/Auckland:20250604T190000
DTEND;TZID=Pacific/Auckland:20250604T213000
DTSTAMP:20260420T190725
CREATED:20250304T234917Z
LAST-MODIFIED:20250304T234917Z
UID:10000059-1749063600-1749072600@kamoclub.co.nz
SUMMARY:The Rainmakers
DESCRIPTION:7-9.30 – Cover Charge Applies
URL:https://kamoclub.co.nz/event/the-rainmakers/
END:VEVENT
BEGIN:VEVENT
DTSTART;TZID=Pacific/Auckland:20250607T190000
DTEND;TZID=Pacific/Auckland:20250607T220000
DTSTAMP:20260420T190725
CREATED:20250304T235016Z
LAST-MODIFIED:20250522T024158Z
UID:10000060-1749322800-1749333600@kamoclub.co.nz
SUMMARY:Karaoke with Robz & Francis
DESCRIPTION:No Cover Charge
URL:https://kamoclub.co.nz/event/karaoke-with-robz-francis/
END:VEVENT
BEGIN:VEVENT
DTSTART;TZID=Pacific/Auckland:20250621T190000
DTEND;TZID=Pacific/Auckland:20250621T220000
DTSTAMP:20260420T190725
CREATED:20250522T024321Z
LAST-MODIFIED:20250522T024321Z
UID:10000102-1750532400-1750543200@kamoclub.co.nz
SUMMARY:Megan Johnston
DESCRIPTION:$5 Cover Charge
URL:https://kamoclub.co.nz/event/megan-johnston/
END:VEVENT
BEGIN:VEVENT
DTSTART;TZID=Pacific/Auckland:20250627T190000
DTEND;TZID=Pacific/Auckland:20250627T223000
DTSTAMP:20260420T190725
CREATED:20250326T004102Z
LAST-MODIFIED:20250326T004102Z
UID:10000071-1751050800-1751063400@kamoclub.co.nz
SUMMARY:The Sound Quiz Night
DESCRIPTION:$10 per team
URL:https://kamoclub.co.nz/event/the-sound-quiz-night-3/
END:VEVENT
END:VCALENDAR