BEGIN:VCALENDAR
VERSION:2.0
PRODID:-//Kamo Club - ECPv6.15.16//NONSGML v1.0//EN
CALSCALE:GREGORIAN
METHOD:PUBLISH
X-ORIGINAL-URL:https://kamoclub.co.nz
X-WR-CALDESC:Events for Kamo Club
REFRESH-INTERVAL;VALUE=DURATION:PT1H
X-Robots-Tag:noindex
X-PUBLISHED-TTL:PT1H
BEGIN:VTIMEZONE
TZID:Pacific/Auckland
BEGIN:STANDARD
TZOFFSETFROM:+1300
TZOFFSETTO:+1200
TZNAME:NZST
DTSTART:20240406T140000
END:STANDARD
BEGIN:DAYLIGHT
TZOFFSETFROM:+1200
TZOFFSETTO:+1300
TZNAME:NZDT
DTSTART:20240928T140000
END:DAYLIGHT
BEGIN:STANDARD
TZOFFSETFROM:+1300
TZOFFSETTO:+1200
TZNAME:NZST
DTSTART:20250405T140000
END:STANDARD
BEGIN:DAYLIGHT
TZOFFSETFROM:+1200
TZOFFSETTO:+1300
TZNAME:NZDT
DTSTART:20250927T140000
END:DAYLIGHT
BEGIN:STANDARD
TZOFFSETFROM:+1300
TZOFFSETTO:+1200
TZNAME:NZST
DTSTART:20260404T140000
END:STANDARD
BEGIN:DAYLIGHT
TZOFFSETFROM:+1200
TZOFFSETTO:+1300
TZNAME:NZDT
DTSTART:20260926T140000
END:DAYLIGHT
END:VTIMEZONE
BEGIN:VEVENT
DTSTART;TZID=Pacific/Auckland:20250502T190000
DTEND;TZID=Pacific/Auckland:20250502T223000
DTSTAMP:20260420T172457
CREATED:20250304T234113Z
LAST-MODIFIED:20250304T234113Z
UID:10000054-1746212400-1746225000@kamoclub.co.nz
SUMMARY:The Sound Quiz
DESCRIPTION:$10 per team
URL:https://kamoclub.co.nz/event/the-sound-quiz/
END:VEVENT
BEGIN:VEVENT
DTSTART;TZID=Pacific/Auckland:20250503T190000
DTEND;TZID=Pacific/Auckland:20250503T220000
DTSTAMP:20260420T172457
CREATED:20250304T234300Z
LAST-MODIFIED:20250304T234300Z
UID:10000055-1746298800-1746309600@kamoclub.co.nz
SUMMARY:7 Star Salute - Paul Madsen Show
DESCRIPTION:$25 per ticket
URL:https://kamoclub.co.nz/event/7-star-salute-paul-madsen-show/
END:VEVENT
BEGIN:VEVENT
DTSTART;TZID=Pacific/Auckland:20250507T190000
DTEND;TZID=Pacific/Auckland:20250507T213000
DTSTAMP:20260420T172457
CREATED:20250304T234416Z
LAST-MODIFIED:20250304T234416Z
UID:10000056-1746644400-1746653400@kamoclub.co.nz
SUMMARY:Carylann & Friends
DESCRIPTION:7-9.30 – Cover Charge Applies
URL:https://kamoclub.co.nz/event/carylann-friends/
END:VEVENT
BEGIN:VEVENT
DTSTART;TZID=Pacific/Auckland:20250523T173000
DTEND;TZID=Pacific/Auckland:20250523T193000
DTSTAMP:20260420T172457
CREATED:20250326T233450Z
LAST-MODIFIED:20250326T233450Z
UID:10000096-1748021400-1748028600@kamoclub.co.nz
SUMMARY:Spin the Wheel
DESCRIPTION:
URL:https://kamoclub.co.nz/event/spin-the-wheel-8/
END:VEVENT
BEGIN:VEVENT
DTSTART;TZID=Pacific/Auckland:20250529T190000
DTEND;TZID=Pacific/Auckland:20250529T213000
DTSTAMP:20260420T172457
CREATED:20250326T002646Z
LAST-MODIFIED:20250326T002646Z
UID:10000063-1748545200-1748554200@kamoclub.co.nz
SUMMARY:Whangarei Folk Club Open Mic Night - 7-9.30
DESCRIPTION:
URL:https://kamoclub.co.nz/event/whangarei-folk-club-open-mic-night-7-9-30-2/
END:VEVENT
BEGIN:VEVENT
DTSTART;TZID=Pacific/Auckland:20250530T190000
DTEND;TZID=Pacific/Auckland:20250530T223000
DTSTAMP:20260420T172457
CREATED:20250304T234801Z
LAST-MODIFIED:20250304T234801Z
UID:10000058-1748631600-1748644200@kamoclub.co.nz
SUMMARY:The Sound Quiz Night
DESCRIPTION:$10 per team
URL:https://kamoclub.co.nz/event/the-sound-quiz-night-2/
END:VEVENT
END:VCALENDAR