BEGIN:VCALENDAR
VERSION:2.0
PRODID:-//Kamo Club - ECPv6.15.16//NONSGML v1.0//EN
CALSCALE:GREGORIAN
METHOD:PUBLISH
X-WR-CALNAME:Kamo Club
X-ORIGINAL-URL:https://kamoclub.co.nz
X-WR-CALDESC:Events for Kamo Club
REFRESH-INTERVAL;VALUE=DURATION:PT1H
X-Robots-Tag:noindex
X-PUBLISHED-TTL:PT1H
BEGIN:VTIMEZONE
TZID:Pacific/Auckland
BEGIN:STANDARD
TZOFFSETFROM:+1300
TZOFFSETTO:+1200
TZNAME:NZST
DTSTART:20240406T140000
END:STANDARD
BEGIN:DAYLIGHT
TZOFFSETFROM:+1200
TZOFFSETTO:+1300
TZNAME:NZDT
DTSTART:20240928T140000
END:DAYLIGHT
BEGIN:STANDARD
TZOFFSETFROM:+1300
TZOFFSETTO:+1200
TZNAME:NZST
DTSTART:20250405T140000
END:STANDARD
BEGIN:DAYLIGHT
TZOFFSETFROM:+1200
TZOFFSETTO:+1300
TZNAME:NZDT
DTSTART:20250927T140000
END:DAYLIGHT
BEGIN:STANDARD
TZOFFSETFROM:+1300
TZOFFSETTO:+1200
TZNAME:NZST
DTSTART:20260404T140000
END:STANDARD
BEGIN:DAYLIGHT
TZOFFSETFROM:+1200
TZOFFSETTO:+1300
TZNAME:NZDT
DTSTART:20260926T140000
END:DAYLIGHT
END:VTIMEZONE
BEGIN:VEVENT
DTSTART;TZID=Pacific/Auckland:20250201T190000
DTEND;TZID=Pacific/Auckland:20250201T220000
DTSTAMP:20260420T123746
CREATED:20250114T232738Z
LAST-MODIFIED:20250114T232738Z
UID:10000037-1738436400-1738447200@kamoclub.co.nz
SUMMARY:Ruff Copy The Band
DESCRIPTION:7-10pm – $10 Cover Charge
URL:https://kamoclub.co.nz/event/ruff-copy-the-band/
END:VEVENT
BEGIN:VEVENT
DTSTART;TZID=Pacific/Auckland:20250221T190000
DTEND;TZID=Pacific/Auckland:20250221T223000
DTSTAMP:20260420T123746
CREATED:20250114T232910Z
LAST-MODIFIED:20250114T232910Z
UID:10000038-1740164400-1740177000@kamoclub.co.nz
SUMMARY:The Emerald Brothers
DESCRIPTION:Dance Section Birthday
URL:https://kamoclub.co.nz/event/the-emerald-brothers/
END:VEVENT
BEGIN:VEVENT
DTSTART;TZID=Pacific/Auckland:20250222T130000
DTEND;TZID=Pacific/Auckland:20250222T160000
DTSTAMP:20260420T123746
CREATED:20250114T232956Z
LAST-MODIFIED:20250114T232956Z
UID:10000039-1740229200-1740240000@kamoclub.co.nz
SUMMARY:The Madeleines
DESCRIPTION:Dance Section Birthday
URL:https://kamoclub.co.nz/event/the-madeleines/
END:VEVENT
BEGIN:VEVENT
DTSTART;TZID=Pacific/Auckland:20250222T190000
DTEND;TZID=Pacific/Auckland:20250222T223000
DTSTAMP:20260420T123746
CREATED:20250114T233038Z
LAST-MODIFIED:20250114T233038Z
UID:10000040-1740250800-1740263400@kamoclub.co.nz
SUMMARY:Dave Ewart Jnr
DESCRIPTION:Dance Section Birthday
URL:https://kamoclub.co.nz/event/dave-ewart-jnr-2/
END:VEVENT
BEGIN:VEVENT
DTSTART;TZID=Pacific/Auckland:20250228T173000
DTEND;TZID=Pacific/Auckland:20250228T190000
DTSTAMP:20260420T123746
CREATED:20250114T233148Z
LAST-MODIFIED:20250114T233148Z
UID:10000042-1740763800-1740769200@kamoclub.co.nz
SUMMARY:Spin the Wheel
DESCRIPTION:Tickets available from 5.30pm
URL:https://kamoclub.co.nz/event/spin-the-wheel-5/
END:VEVENT
END:VCALENDAR