BEGIN:VCALENDAR
VERSION:2.0
PRODID:-//Kamo Club - ECPv6.15.16//NONSGML v1.0//EN
CALSCALE:GREGORIAN
METHOD:PUBLISH
X-ORIGINAL-URL:https://kamoclub.co.nz
X-WR-CALDESC:Events for Kamo Club
REFRESH-INTERVAL;VALUE=DURATION:PT1H
X-Robots-Tag:noindex
X-PUBLISHED-TTL:PT1H
BEGIN:VTIMEZONE
TZID:Pacific/Auckland
BEGIN:STANDARD
TZOFFSETFROM:+1300
TZOFFSETTO:+1200
TZNAME:NZST
DTSTART:20230401T140000
END:STANDARD
BEGIN:DAYLIGHT
TZOFFSETFROM:+1200
TZOFFSETTO:+1300
TZNAME:NZDT
DTSTART:20230923T140000
END:DAYLIGHT
BEGIN:STANDARD
TZOFFSETFROM:+1300
TZOFFSETTO:+1200
TZNAME:NZST
DTSTART:20240406T140000
END:STANDARD
BEGIN:DAYLIGHT
TZOFFSETFROM:+1200
TZOFFSETTO:+1300
TZNAME:NZDT
DTSTART:20240928T140000
END:DAYLIGHT
BEGIN:STANDARD
TZOFFSETFROM:+1300
TZOFFSETTO:+1200
TZNAME:NZST
DTSTART:20250405T140000
END:STANDARD
BEGIN:DAYLIGHT
TZOFFSETFROM:+1200
TZOFFSETTO:+1300
TZNAME:NZDT
DTSTART:20250927T140000
END:DAYLIGHT
END:VTIMEZONE
BEGIN:VEVENT
DTSTART;TZID=Pacific/Auckland:20241101T190000
DTEND;TZID=Pacific/Auckland:20241101T230000
DTSTAMP:20260420T172457
CREATED:20241001T233045Z
LAST-MODIFIED:20241001T233045Z
UID:10000021-1730487600-1730502000@kamoclub.co.nz
SUMMARY:The Sound Rock Quiz
DESCRIPTION:$10 per team – from 7.15
URL:https://kamoclub.co.nz/event/the-sound-rock-quiz-2/
END:VEVENT
BEGIN:VEVENT
DTSTART;TZID=Pacific/Auckland:20241106T190000
DTEND;TZID=Pacific/Auckland:20241106T213000
DTSTAMP:20260420T172457
CREATED:20241001T233211Z
LAST-MODIFIED:20241001T233211Z
UID:10000022-1730919600-1730928600@kamoclub.co.nz
SUMMARY:Happy Fish
DESCRIPTION:from 7-9.30pm – $5 Cover Charge
URL:https://kamoclub.co.nz/event/happy-fish/
END:VEVENT
BEGIN:VEVENT
DTSTART;TZID=Pacific/Auckland:20241109T190000
DTEND;TZID=Pacific/Auckland:20241109T223000
DTSTAMP:20260420T172457
CREATED:20241001T233402Z
LAST-MODIFIED:20241001T235728Z
UID:10000023-1731178800-1731191400@kamoclub.co.nz
SUMMARY:The Hank & Cilla Show
DESCRIPTION:From 7.00pm – $5 Cover Charge
URL:https://kamoclub.co.nz/event/the-hank-cilla-show/
END:VEVENT
BEGIN:VEVENT
DTSTART;TZID=Pacific/Auckland:20241116T180000
DTEND;TZID=Pacific/Auckland:20241116T223000
DTSTAMP:20260420T172457
CREATED:20241001T233512Z
LAST-MODIFIED:20241001T233512Z
UID:10000024-1731780000-1731796200@kamoclub.co.nz
SUMMARY:Kamo Club Sports Awards with Happy Fish
DESCRIPTION:Book your section in……..
URL:https://kamoclub.co.nz/event/kamo-club-sports-awards-with-happy-fish/
END:VEVENT
BEGIN:VEVENT
DTSTART;TZID=Pacific/Auckland:20241123T190000
DTEND;TZID=Pacific/Auckland:20241123T223000
DTSTAMP:20260420T172457
CREATED:20241001T233719Z
LAST-MODIFIED:20241001T233719Z
UID:10000025-1732388400-1732401000@kamoclub.co.nz
SUMMARY:Fleetwood Mac Experience - Dreams
DESCRIPTION:Only $20 per ticket
URL:https://kamoclub.co.nz/event/fleetwood-mac-experience-dreams/
END:VEVENT
BEGIN:VEVENT
DTSTART;TZID=Pacific/Auckland:20241129T190000
DTEND;TZID=Pacific/Auckland:20241129T230000
DTSTAMP:20260420T172457
CREATED:20241001T233816Z
LAST-MODIFIED:20241001T233816Z
UID:10000026-1732906800-1732921200@kamoclub.co.nz
SUMMARY:The Sound Quiz Night
DESCRIPTION:Only $10 per team
URL:https://kamoclub.co.nz/event/the-sound-quiz-night/
END:VEVENT
END:VCALENDAR