BEGIN:VCALENDAR
VERSION:2.0
PRODID:-//Kamo Club - ECPv6.15.16//NONSGML v1.0//EN
CALSCALE:GREGORIAN
METHOD:PUBLISH
X-ORIGINAL-URL:https://kamoclub.co.nz
X-WR-CALDESC:Events for Kamo Club
REFRESH-INTERVAL;VALUE=DURATION:PT1H
X-Robots-Tag:noindex
X-PUBLISHED-TTL:PT1H
BEGIN:VTIMEZONE
TZID:Pacific/Auckland
BEGIN:STANDARD
TZOFFSETFROM:+1300
TZOFFSETTO:+1200
TZNAME:NZST
DTSTART:20230401T140000
END:STANDARD
BEGIN:DAYLIGHT
TZOFFSETFROM:+1200
TZOFFSETTO:+1300
TZNAME:NZDT
DTSTART:20230923T140000
END:DAYLIGHT
BEGIN:STANDARD
TZOFFSETFROM:+1300
TZOFFSETTO:+1200
TZNAME:NZST
DTSTART:20240406T140000
END:STANDARD
BEGIN:DAYLIGHT
TZOFFSETFROM:+1200
TZOFFSETTO:+1300
TZNAME:NZDT
DTSTART:20240928T140000
END:DAYLIGHT
BEGIN:STANDARD
TZOFFSETFROM:+1300
TZOFFSETTO:+1200
TZNAME:NZST
DTSTART:20250405T140000
END:STANDARD
BEGIN:DAYLIGHT
TZOFFSETFROM:+1200
TZOFFSETTO:+1300
TZNAME:NZDT
DTSTART:20250927T140000
END:DAYLIGHT
END:VTIMEZONE
BEGIN:VEVENT
DTSTART;TZID=Pacific/Auckland:20240803T190000
DTEND;TZID=Pacific/Auckland:20240803T220000
DTSTAMP:20260420T222046
CREATED:20240718T232250Z
LAST-MODIFIED:20240718T232250Z
UID:10000002-1722711600-1722722400@kamoclub.co.nz
SUMMARY:A Tribute to the Jersey Boys
DESCRIPTION:Early Bird tickets available now only $20 \nTickets will be $25 on the night
URL:https://kamoclub.co.nz/event/a-tribute-to-the-jersey-boys/
END:VEVENT
BEGIN:VEVENT
DTSTART;TZID=Pacific/Auckland:20240804T093000
DTEND;TZID=Pacific/Auckland:20240804T123000
DTSTAMP:20260420T222046
CREATED:20240718T235311Z
LAST-MODIFIED:20240718T235311Z
UID:10000004-1722763800-1722774600@kamoclub.co.nz
SUMMARY:Kamo Club's Pink Brunch
DESCRIPTION:Come along and support Breast Cancer NZ – only $25 per ticket with $5 going directly to the NZ Cancer Society – Tickets available now…
URL:https://kamoclub.co.nz/event/kamo-clubs-pink-brunch/
END:VEVENT
BEGIN:VEVENT
DTSTART;TZID=Pacific/Auckland:20240807T190000
DTEND;TZID=Pacific/Auckland:20240807T213000
DTSTAMP:20260420T222046
CREATED:20240718T235537Z
LAST-MODIFIED:20240718T235537Z
UID:10000006-1723057200-1723066200@kamoclub.co.nz
SUMMARY:Kamo Dance Section - Ruth May Entertains
DESCRIPTION:Come along to Ruth May – $5 Cover Charge
URL:https://kamoclub.co.nz/event/kamo-dance-section-ruth-may-entertains/
END:VEVENT
BEGIN:VEVENT
DTSTART;TZID=Pacific/Auckland:20240811T100000
DTEND;TZID=Pacific/Auckland:20240811T140000
DTSTAMP:20260420T222046
CREATED:20240718T235410Z
LAST-MODIFIED:20240718T235410Z
UID:10000005-1723370400-1723384800@kamoclub.co.nz
SUMMARY:AGM
DESCRIPTION:Kamo Club’s AGM
URL:https://kamoclub.co.nz/event/agm/
END:VEVENT
END:VCALENDAR