BEGIN:VCALENDAR
VERSION:2.0
PRODID:-//Kamo Club - ECPv6.15.16//NONSGML v1.0//EN
CALSCALE:GREGORIAN
METHOD:PUBLISH
X-WR-CALNAME:Kamo Club
X-ORIGINAL-URL:https://kamoclub.co.nz
X-WR-CALDESC:Events for Kamo Club
REFRESH-INTERVAL;VALUE=DURATION:PT1H
X-Robots-Tag:noindex
X-PUBLISHED-TTL:PT1H
BEGIN:VTIMEZONE
TZID:Pacific/Auckland
BEGIN:STANDARD
TZOFFSETFROM:+1300
TZOFFSETTO:+1200
TZNAME:NZST
DTSTART:20240406T140000
END:STANDARD
BEGIN:DAYLIGHT
TZOFFSETFROM:+1200
TZOFFSETTO:+1300
TZNAME:NZDT
DTSTART:20240928T140000
END:DAYLIGHT
BEGIN:STANDARD
TZOFFSETFROM:+1300
TZOFFSETTO:+1200
TZNAME:NZST
DTSTART:20250405T140000
END:STANDARD
BEGIN:DAYLIGHT
TZOFFSETFROM:+1200
TZOFFSETTO:+1300
TZNAME:NZDT
DTSTART:20250927T140000
END:DAYLIGHT
BEGIN:STANDARD
TZOFFSETFROM:+1300
TZOFFSETTO:+1200
TZNAME:NZST
DTSTART:20260404T140000
END:STANDARD
BEGIN:DAYLIGHT
TZOFFSETFROM:+1200
TZOFFSETTO:+1300
TZNAME:NZDT
DTSTART:20260926T140000
END:DAYLIGHT
END:VTIMEZONE
BEGIN:VEVENT
DTSTART;TZID=Pacific/Auckland:20251115T163000
DTEND;TZID=Pacific/Auckland:20251115T190000
DTSTAMP:20260423T080027
CREATED:20250813T220147Z
LAST-MODIFIED:20250902T215755Z
UID:10000330-1763224200-1763233200@kamoclub.co.nz
SUMMARY:Darts Section
DESCRIPTION:
URL:https://kamoclub.co.nz/event/darts-section/2025-11-15/
END:VEVENT
BEGIN:VEVENT
DTSTART;TZID=Pacific/Auckland:20251115T190000
DTEND;TZID=Pacific/Auckland:20251115T223000
DTSTAMP:20260423T080027
CREATED:20250326T010745Z
LAST-MODIFIED:20251009T002040Z
UID:10000089-1763233200-1763245800@kamoclub.co.nz
SUMMARY:Kamo Club Sports Awards with Ruth May Duo
DESCRIPTION:
URL:https://kamoclub.co.nz/event/kamo-club-sports-awards-with-ruth-may-duo/
ATTACH;FMTTYPE=image/jpeg:https://kamoclub.co.nz/wp-content/uploads/2025/10/Sports-Awards-2025.jpg
END:VEVENT
END:VCALENDAR