BEGIN:VCALENDAR
VERSION:2.0
PRODID:-//Kamo Club - ECPv6.15.16//NONSGML v1.0//EN
CALSCALE:GREGORIAN
METHOD:PUBLISH
X-ORIGINAL-URL:https://kamoclub.co.nz
X-WR-CALDESC:Events for Kamo Club
REFRESH-INTERVAL;VALUE=DURATION:PT1H
X-Robots-Tag:noindex
X-PUBLISHED-TTL:PT1H
BEGIN:VTIMEZONE
TZID:Pacific/Auckland
BEGIN:STANDARD
TZOFFSETFROM:+1300
TZOFFSETTO:+1200
TZNAME:NZST
DTSTART:20240406T140000
END:STANDARD
BEGIN:DAYLIGHT
TZOFFSETFROM:+1200
TZOFFSETTO:+1300
TZNAME:NZDT
DTSTART:20240928T140000
END:DAYLIGHT
BEGIN:STANDARD
TZOFFSETFROM:+1300
TZOFFSETTO:+1200
TZNAME:NZST
DTSTART:20250405T140000
END:STANDARD
BEGIN:DAYLIGHT
TZOFFSETFROM:+1200
TZOFFSETTO:+1300
TZNAME:NZDT
DTSTART:20250927T140000
END:DAYLIGHT
BEGIN:STANDARD
TZOFFSETFROM:+1300
TZOFFSETTO:+1200
TZNAME:NZST
DTSTART:20260404T140000
END:STANDARD
BEGIN:DAYLIGHT
TZOFFSETFROM:+1200
TZOFFSETTO:+1300
TZNAME:NZDT
DTSTART:20260926T140000
END:DAYLIGHT
END:VTIMEZONE
BEGIN:VEVENT
DTSTART;TZID=Pacific/Auckland:20251101T163000
DTEND;TZID=Pacific/Auckland:20251101T190000
DTSTAMP:20260422T104101
CREATED:20250813T220147Z
LAST-MODIFIED:20250902T215755Z
UID:10000328-1762014600-1762023600@kamoclub.co.nz
SUMMARY:Darts Section
DESCRIPTION:
URL:https://kamoclub.co.nz/event/darts-section/2025-11-01/
END:VEVENT
BEGIN:VEVENT
DTSTART;TZID=Pacific/Auckland:20251101T190000
DTEND;TZID=Pacific/Auckland:20251101T220000
DTSTAMP:20260422T104101
CREATED:20250326T010554Z
LAST-MODIFIED:20250820T002152Z
UID:10000088-1762023600-1762034400@kamoclub.co.nz
SUMMARY:Stagetalk
DESCRIPTION:$5 Cover Charge
URL:https://kamoclub.co.nz/event/stagetalk/
ATTACH;FMTTYPE=image/jpeg:https://kamoclub.co.nz/wp-content/uploads/2025/03/Stagetalk-Nov-25.jpg
END:VEVENT
END:VCALENDAR