BEGIN:VCALENDAR
VERSION:2.0
PRODID:-//Kamo Club - ECPv6.15.16//NONSGML v1.0//EN
CALSCALE:GREGORIAN
METHOD:PUBLISH
X-WR-CALNAME:Kamo Club
X-ORIGINAL-URL:https://kamoclub.co.nz
X-WR-CALDESC:Events for Kamo Club
REFRESH-INTERVAL;VALUE=DURATION:PT1H
X-Robots-Tag:noindex
X-PUBLISHED-TTL:PT1H
BEGIN:VTIMEZONE
TZID:Pacific/Auckland
BEGIN:STANDARD
TZOFFSETFROM:+1300
TZOFFSETTO:+1200
TZNAME:NZST
DTSTART:20240406T140000
END:STANDARD
BEGIN:DAYLIGHT
TZOFFSETFROM:+1200
TZOFFSETTO:+1300
TZNAME:NZDT
DTSTART:20240928T140000
END:DAYLIGHT
BEGIN:STANDARD
TZOFFSETFROM:+1300
TZOFFSETTO:+1200
TZNAME:NZST
DTSTART:20250405T140000
END:STANDARD
BEGIN:DAYLIGHT
TZOFFSETFROM:+1200
TZOFFSETTO:+1300
TZNAME:NZDT
DTSTART:20250927T140000
END:DAYLIGHT
BEGIN:STANDARD
TZOFFSETFROM:+1300
TZOFFSETTO:+1200
TZNAME:NZST
DTSTART:20260404T140000
END:STANDARD
BEGIN:DAYLIGHT
TZOFFSETFROM:+1200
TZOFFSETTO:+1300
TZNAME:NZDT
DTSTART:20260926T140000
END:DAYLIGHT
END:VTIMEZONE
BEGIN:VEVENT
DTSTART;TZID=Pacific/Auckland:20251019T103000
DTEND;TZID=Pacific/Auckland:20251019T153000
DTSTAMP:20260422T104105
CREATED:20250326T010430Z
LAST-MODIFIED:20250820T000235Z
UID:10000087-1760869800-1760887800@kamoclub.co.nz
SUMMARY:Spring Fever Line Dancing with Sue Wilson
DESCRIPTION:
URL:https://kamoclub.co.nz/event/spring-fever-tba-3/
ATTACH;FMTTYPE=image/jpeg:https://kamoclub.co.nz/wp-content/uploads/2025/03/Line-Dance-Social-Spring-Fever-25.jpg
END:VEVENT
BEGIN:VEVENT
DTSTART;TZID=Pacific/Auckland:20251019T130000
DTEND;TZID=Pacific/Auckland:20251019T153000
DTSTAMP:20260422T104105
CREATED:20250813T220250Z
LAST-MODIFIED:20250902T215933Z
UID:10000395-1760878800-1760887800@kamoclub.co.nz
SUMMARY:Indoor Bowls Section
DESCRIPTION:
URL:https://kamoclub.co.nz/event/indoor-bowls-section/2025-10-19/
END:VEVENT
END:VCALENDAR