BEGIN:VCALENDAR
VERSION:2.0
PRODID:-//Kamo Club - ECPv6.15.16//NONSGML v1.0//EN
CALSCALE:GREGORIAN
METHOD:PUBLISH
X-WR-CALNAME:Kamo Club
X-ORIGINAL-URL:https://kamoclub.co.nz
X-WR-CALDESC:Events for Kamo Club
REFRESH-INTERVAL;VALUE=DURATION:PT1H
X-Robots-Tag:noindex
X-PUBLISHED-TTL:PT1H
BEGIN:VTIMEZONE
TZID:Pacific/Auckland
BEGIN:STANDARD
TZOFFSETFROM:+1300
TZOFFSETTO:+1200
TZNAME:NZST
DTSTART:20240406T140000
END:STANDARD
BEGIN:DAYLIGHT
TZOFFSETFROM:+1200
TZOFFSETTO:+1300
TZNAME:NZDT
DTSTART:20240928T140000
END:DAYLIGHT
BEGIN:STANDARD
TZOFFSETFROM:+1300
TZOFFSETTO:+1200
TZNAME:NZST
DTSTART:20250405T140000
END:STANDARD
BEGIN:DAYLIGHT
TZOFFSETFROM:+1200
TZOFFSETTO:+1300
TZNAME:NZDT
DTSTART:20250927T140000
END:DAYLIGHT
BEGIN:STANDARD
TZOFFSETFROM:+1300
TZOFFSETTO:+1200
TZNAME:NZST
DTSTART:20260404T140000
END:STANDARD
BEGIN:DAYLIGHT
TZOFFSETFROM:+1200
TZOFFSETTO:+1300
TZNAME:NZDT
DTSTART:20260926T140000
END:DAYLIGHT
END:VTIMEZONE
BEGIN:VEVENT
DTSTART;TZID=Pacific/Auckland:20250924T163000
DTEND;TZID=Pacific/Auckland:20250924T213000
DTSTAMP:20260421T201252
CREATED:20250813T220051Z
LAST-MODIFIED:20250902T210711Z
UID:10000254-1758731400-1758749400@kamoclub.co.nz
SUMMARY:Dance Section
DESCRIPTION:Dance section has a live band on the 1st Wednesday of every month – there is a cover charge
URL:https://kamoclub.co.nz/event/dance-section/2025-09-24/
END:VEVENT
BEGIN:VEVENT
DTSTART;TZID=Pacific/Auckland:20250924T183000
DTEND;TZID=Pacific/Auckland:20250924T203000
DTSTAMP:20260421T201252
CREATED:20250902T220251Z
LAST-MODIFIED:20250902T220251Z
UID:10000462-1758738600-1758745800@kamoclub.co.nz
SUMMARY:Snooker
DESCRIPTION:Snooker Section meets every Wednesday night
URL:https://kamoclub.co.nz/event/snooker/2025-09-24/
END:VEVENT
END:VCALENDAR