BEGIN:VCALENDAR
VERSION:2.0
PRODID:-//Kamo Club - ECPv6.15.16//NONSGML v1.0//EN
CALSCALE:GREGORIAN
METHOD:PUBLISH
X-WR-CALNAME:Kamo Club
X-ORIGINAL-URL:https://kamoclub.co.nz
X-WR-CALDESC:Events for Kamo Club
REFRESH-INTERVAL;VALUE=DURATION:PT1H
X-Robots-Tag:noindex
X-PUBLISHED-TTL:PT1H
BEGIN:VTIMEZONE
TZID:Pacific/Auckland
BEGIN:STANDARD
TZOFFSETFROM:+1300
TZOFFSETTO:+1200
TZNAME:NZST
DTSTART:20240406T140000
END:STANDARD
BEGIN:DAYLIGHT
TZOFFSETFROM:+1200
TZOFFSETTO:+1300
TZNAME:NZDT
DTSTART:20240928T140000
END:DAYLIGHT
BEGIN:STANDARD
TZOFFSETFROM:+1300
TZOFFSETTO:+1200
TZNAME:NZST
DTSTART:20250405T140000
END:STANDARD
BEGIN:DAYLIGHT
TZOFFSETFROM:+1200
TZOFFSETTO:+1300
TZNAME:NZDT
DTSTART:20250927T140000
END:DAYLIGHT
BEGIN:STANDARD
TZOFFSETFROM:+1300
TZOFFSETTO:+1200
TZNAME:NZST
DTSTART:20260404T140000
END:STANDARD
BEGIN:DAYLIGHT
TZOFFSETFROM:+1200
TZOFFSETTO:+1300
TZNAME:NZDT
DTSTART:20260926T140000
END:DAYLIGHT
END:VTIMEZONE
BEGIN:VEVENT
DTSTART;TZID=Pacific/Auckland:20250108T190000
DTEND;TZID=Pacific/Auckland:20250108T213000
DTSTAMP:20260420T155358
CREATED:20241202T231158Z
LAST-MODIFIED:20241202T231158Z
UID:10000035-1736362800-1736371800@kamoclub.co.nz
SUMMARY:Carylann
DESCRIPTION:The Dance Section presents ”Carylann” – from 7-9.30 pm – $5 Cover Charge
URL:https://kamoclub.co.nz/event/carylann/
END:VEVENT
END:VCALENDAR